BEGIN:VCALENDAR
VERSION:2.0
PRODID:-//Osan Air Base - ECPv6.15.20//NONSGML v1.0//EN
CALSCALE:GREGORIAN
METHOD:PUBLISH
X-WR-CALNAME:Osan Air Base
X-ORIGINAL-URL:https://51fss.com
X-WR-CALDESC:Events for Osan Air Base
REFRESH-INTERVAL;VALUE=DURATION:PT1H
X-Robots-Tag:noindex
X-PUBLISHED-TTL:PT1H
BEGIN:VTIMEZONE
TZID:UTC
BEGIN:STANDARD
TZOFFSETFROM:+0000
TZOFFSETTO:+0000
TZNAME:UTC
DTSTART:20250101T000000
END:STANDARD
END:VTIMEZONE
BEGIN:VEVENT
DTSTART;TZID=UTC:20260503T100000
DTEND;TZID=UTC:20260503T133000
DTSTAMP:20260421T210339
CREATED:20240821T071725Z
LAST-MODIFIED:20240821T072741Z
UID:10001479-1777802400-1777815000@51fss.com
SUMMARY:Sunday Brunch
DESCRIPTION:Enlisted Club
URL:https://51fss.com/event/sunday-brunch/2026-05-03/
END:VEVENT
BEGIN:VEVENT
DTSTART;TZID=UTC:20260507T163000
DTEND;TZID=UTC:20260507T190000
DTSTAMP:20260421T210339
CREATED:20240821T071853Z
LAST-MODIFIED:20240821T071853Z
UID:10001470-1778171400-1778180400@51fss.com
SUMMARY:Taco Thursday
DESCRIPTION:Enlisted Club
URL:https://51fss.com/event/taco-thursday/2026-05-07/
END:VEVENT
BEGIN:VEVENT
DTSTART;TZID=UTC:20260510T100000
DTEND;TZID=UTC:20260510T133000
DTSTAMP:20260421T210339
CREATED:20240821T071725Z
LAST-MODIFIED:20240821T072741Z
UID:10001480-1778407200-1778419800@51fss.com
SUMMARY:Sunday Brunch
DESCRIPTION:Enlisted Club
URL:https://51fss.com/event/sunday-brunch/2026-05-10/
END:VEVENT
BEGIN:VEVENT
DTSTART;TZID=UTC:20260514T163000
DTEND;TZID=UTC:20260514T190000
DTSTAMP:20260421T210339
CREATED:20240821T071853Z
LAST-MODIFIED:20240821T071853Z
UID:10001481-1778776200-1778785200@51fss.com
SUMMARY:Taco Thursday
DESCRIPTION:Enlisted Club
URL:https://51fss.com/event/taco-thursday/2026-05-14/
END:VEVENT
BEGIN:VEVENT
DTSTART;TZID=UTC:20260517T100000
DTEND;TZID=UTC:20260517T133000
DTSTAMP:20260421T210339
CREATED:20240821T071725Z
LAST-MODIFIED:20240821T072741Z
UID:10001503-1779012000-1779024600@51fss.com
SUMMARY:Sunday Brunch
DESCRIPTION:Enlisted Club
URL:https://51fss.com/event/sunday-brunch/2026-05-17/
END:VEVENT
BEGIN:VEVENT
DTSTART;TZID=UTC:20260521T163000
DTEND;TZID=UTC:20260521T190000
DTSTAMP:20260421T210339
CREATED:20240821T071853Z
LAST-MODIFIED:20240821T071853Z
UID:10001504-1779381000-1779390000@51fss.com
SUMMARY:Taco Thursday
DESCRIPTION:Enlisted Club
URL:https://51fss.com/event/taco-thursday/2026-05-21/
END:VEVENT
BEGIN:VEVENT
DTSTART;TZID=UTC:20260524T100000
DTEND;TZID=UTC:20260524T133000
DTSTAMP:20260421T210339
CREATED:20240821T071725Z
LAST-MODIFIED:20240821T072741Z
UID:10001505-1779616800-1779629400@51fss.com
SUMMARY:Sunday Brunch
DESCRIPTION:Enlisted Club
URL:https://51fss.com/event/sunday-brunch/2026-05-24/
END:VEVENT
BEGIN:VEVENT
DTSTART;TZID=UTC:20260528T163000
DTEND;TZID=UTC:20260528T190000
DTSTAMP:20260421T210339
CREATED:20240821T071853Z
LAST-MODIFIED:20240821T071853Z
UID:10001506-1779985800-1779994800@51fss.com
SUMMARY:Taco Thursday
DESCRIPTION:Enlisted Club
URL:https://51fss.com/event/taco-thursday/2026-05-28/
END:VEVENT
BEGIN:VEVENT
DTSTART;TZID=UTC:20260531T100000
DTEND;TZID=UTC:20260531T133000
DTSTAMP:20260421T210339
CREATED:20240821T071725Z
LAST-MODIFIED:20240821T072741Z
UID:10001520-1780221600-1780234200@51fss.com
SUMMARY:Sunday Brunch
DESCRIPTION:Enlisted Club
URL:https://51fss.com/event/sunday-brunch/2026-05-31/
END:VEVENT
END:VCALENDAR